BEGIN:VCALENDAR
VERSION:2.0
PRODID:-//Evangelischer Hospiz- und Palliativ-Verein Darmstadt e.V. - ECPv6.14.2//NONSGML v1.0//EN
CALSCALE:GREGORIAN
METHOD:PUBLISH
X-WR-CALNAME:Evangelischer Hospiz- und Palliativ-Verein Darmstadt e.V.
X-ORIGINAL-URL:https://www.ev-hospizverein.de
X-WR-CALDESC:Veranstaltungen für Evangelischer Hospiz- und Palliativ-Verein Darmstadt e.V.
REFRESH-INTERVAL;VALUE=DURATION:PT1H
X-Robots-Tag:noindex
X-PUBLISHED-TTL:PT1H
BEGIN:VTIMEZONE
TZID:Europe/Berlin
BEGIN:DAYLIGHT
TZOFFSETFROM:+0100
TZOFFSETTO:+0200
TZNAME:CEST
DTSTART:20260329T010000
END:DAYLIGHT
BEGIN:STANDARD
TZOFFSETFROM:+0200
TZOFFSETTO:+0100
TZNAME:CET
DTSTART:20261025T010000
END:STANDARD
END:VTIMEZONE
BEGIN:VEVENT
DTSTART;TZID=Europe/Berlin:20260318T090000
DTEND;TZID=Europe/Berlin:20260318T160000
DTSTAMP:20260424T203229
CREATED:20260311T105826Z
LAST-MODIFIED:20260311T105826Z
UID:6555-1773824400-1773849600@www.ev-hospizverein.de
SUMMARY:Aufbauschulung Aromapflege
DESCRIPTION:Das Palliativkolleg des Ev. Hospiz-und Palliativ-Vereins\nbietet in Kooperation mit dem Elisabethenhospiz eine\nAufbauschulung an: Aromapflege \nMit den Themen:\n. Linderung der häufig vorkommenden Symptome wie Schmerzen\, Übelkeit\, Luftnot und Angst\n. Zur Haut und Schleimhautpflege bei irritierter Haut und Juckreiz\n. Zu Wohlfühlangeboten und Juckreiz\n. Zur Unterstützung der Begleitenden in der Sterbephase \nKursleitung: Katharina Kraft\, exam. Altenpflegerin\, Aromaexpertin\, Seminarleiterin Primavera\nKosten: 125\,– Euro\nVoraussetzung: Grundlagenschulung Aromapflege
URL:https://www.ev-hospizverein.de/termin/aufbauschulung-aromapflege/
LOCATION:Stiftssaal in der Stiftskirche\, Stiftstraße Ecke Erbacher Straße\, Stiftstraße\, Darmstadt\, 64287\, Germany
ATTACH;FMTTYPE=image/jpeg:https://www.ev-hospizverein.de/wp-content/uploads/2026/03/aroma.jpg
END:VEVENT
END:VCALENDAR