BEGIN:VCALENDAR
VERSION:2.0
PRODID:-//Evangelischer Hospiz- und Palliativ-Verein Darmstadt e.V. - ECPv6.14.2//NONSGML v1.0//EN
CALSCALE:GREGORIAN
METHOD:PUBLISH
X-WR-CALNAME:Evangelischer Hospiz- und Palliativ-Verein Darmstadt e.V.
X-ORIGINAL-URL:https://www.ev-hospizverein.de
X-WR-CALDESC:Veranstaltungen für Evangelischer Hospiz- und Palliativ-Verein Darmstadt e.V.
REFRESH-INTERVAL;VALUE=DURATION:PT1H
X-Robots-Tag:noindex
X-PUBLISHED-TTL:PT1H
BEGIN:VTIMEZONE
TZID:Europe/Berlin
BEGIN:DAYLIGHT
TZOFFSETFROM:+0100
TZOFFSETTO:+0200
TZNAME:CEST
DTSTART:20260329T010000
END:DAYLIGHT
BEGIN:STANDARD
TZOFFSETFROM:+0200
TZOFFSETTO:+0100
TZNAME:CET
DTSTART:20261025T010000
END:STANDARD
END:VTIMEZONE
BEGIN:VEVENT
DTSTART;TZID=Europe/Berlin:20260206T180000
DTEND;TZID=Europe/Berlin:20260206T200000
DTSTAMP:20260424T140029
CREATED:20260107T144614Z
LAST-MODIFIED:20260107T144842Z
UID:6478-1770400800-1770408000@www.ev-hospizverein.de
SUMMARY:Auftaktveranstaltung Palliative Care Kolleg
DESCRIPTION:„Was am Ende zählt – Leben und Sterben in Würde“ Vortrag von Prof. Dr. Martin Weber\, Palliativmediziner i.R.\, Vorsitzender der IGP. \nDie Teilnahme an der Veranstaltung ist kostenlos. Im Anschluss an den Vortrag laden wir herzlich zu einem „Come together“ mit Sekt und Häppchen ein. Für die musikalische Umrahmung sorgt die Band „tunes4mallets“. \nDas Palliative Care Kolleg Darmstadt ist eine Bildungseinrichtung des Evangelischen Hospiz- und\nPalliativ‑Vereins Darmstadt (EHPV)\, in der Fachwissen und Erfahrung für eine würdevolle und kompetente Begleitung schwerstkranker und sterbender Menschen zusammenfließen. In praxisnahen Bildungsangeboten für haupt‑ und ehrenamtlich Tätige sowie in offenen Kursen für interessierte Bürger:innen werden Handlungskompetenz\, Wissen zur letzten Lebensphase und eine würdezentrierte Haltung gestärkt.
URL:https://www.ev-hospizverein.de/termin/auftaktveranstaltung-palliative-care-kolleg/
LOCATION:Stiftssaal in der Stiftskirche\, Stiftstraße Ecke Erbacher Straße\, Stiftstraße\, Darmstadt\, 64287\, Germany
ATTACH;FMTTYPE=image/jpeg:https://www.ev-hospizverein.de/wp-content/uploads/2026/01/pck.auf_.jpg
END:VEVENT
END:VCALENDAR