BEGIN:VCALENDAR
VERSION:2.0
PRODID:-//Evangelischer Hospiz- und Palliativ-Verein Darmstadt e.V. - ECPv6.14.2//NONSGML v1.0//EN
CALSCALE:GREGORIAN
METHOD:PUBLISH
X-WR-CALNAME:Evangelischer Hospiz- und Palliativ-Verein Darmstadt e.V.
X-ORIGINAL-URL:https://www.ev-hospizverein.de
X-WR-CALDESC:Veranstaltungen für Evangelischer Hospiz- und Palliativ-Verein Darmstadt e.V.
REFRESH-INTERVAL;VALUE=DURATION:PT1H
X-Robots-Tag:noindex
X-PUBLISHED-TTL:PT1H
BEGIN:VTIMEZONE
TZID:Europe/Helsinki
BEGIN:DAYLIGHT
TZOFFSETFROM:+0200
TZOFFSETTO:+0300
TZNAME:EEST
DTSTART:20250330T010000
END:DAYLIGHT
BEGIN:STANDARD
TZOFFSETFROM:+0300
TZOFFSETTO:+0200
TZNAME:EET
DTSTART:20251026T010000
END:STANDARD
END:VTIMEZONE
BEGIN:VEVENT
DTSTART;TZID=Europe/Helsinki:20250213T180000
DTEND;TZID=Europe/Helsinki:20250213T210000
DTSTAMP:20260423T203711
CREATED:20250122T201144Z
LAST-MODIFIED:20250214T084303Z
UID:4664-1739469600-1739480400@www.ev-hospizverein.de
SUMMARY:Erste Hilfe für die Begegnung mit Trauer(nden) Ausgebucht!
DESCRIPTION:Ausgebucht! Informationsangebot für Interessierte mit dem Ziel\, das Thema Trauer zu enttabuisieren\, über Mythen aufzuklären\, Wissen zu vermitteln\, Hemmschwellen und Berührungsängste mit dem Thema und mit trauernden Personen abzubauen.WICHTIG: Es handelt sich hierbei nicht um ein Angebot für aktuell von Verlust betroffene Menschen! \n\nInfo und Anmeldung bis 11.02.2025 bei:\nMalteser Hospizzentrum Darmstadt\, Telefon 06151.22050 oder hospizdienst.darmstadt@malteser.org
URL:https://www.ev-hospizverein.de/termin/erste-hilfe-fuer-die-begegnung-mit-trauernden/
LOCATION:Malteser Hospizzentrum Darmstadt\, Elisabethenstraße 34\, 64283 Darmstadt
ATTACH;FMTTYPE=image/jpeg:https://www.ev-hospizverein.de/wp-content/uploads/2025/01/2501.kalender.erstehilfe.jpg
END:VEVENT
END:VCALENDAR