BEGIN:VCALENDAR
VERSION:2.0
PRODID:-//Evangelischer Hospiz- und Palliativ-Verein Darmstadt e.V. - ECPv6.14.2//NONSGML v1.0//EN
CALSCALE:GREGORIAN
METHOD:PUBLISH
X-WR-CALNAME:Evangelischer Hospiz- und Palliativ-Verein Darmstadt e.V.
X-ORIGINAL-URL:https://www.ev-hospizverein.de
X-WR-CALDESC:Veranstaltungen für Evangelischer Hospiz- und Palliativ-Verein Darmstadt e.V.
REFRESH-INTERVAL;VALUE=DURATION:PT1H
X-Robots-Tag:noindex
X-PUBLISHED-TTL:PT1H
BEGIN:VTIMEZONE
TZID:Europe/Berlin
BEGIN:DAYLIGHT
TZOFFSETFROM:+0100
TZOFFSETTO:+0200
TZNAME:CEST
DTSTART:20250330T010000
END:DAYLIGHT
BEGIN:STANDARD
TZOFFSETFROM:+0200
TZOFFSETTO:+0100
TZNAME:CET
DTSTART:20251026T010000
END:STANDARD
END:VTIMEZONE
BEGIN:VEVENT
DTSTART;TZID=Europe/Berlin:20250228T140000
DTEND;TZID=Europe/Berlin:20250228T183000
DTSTAMP:20260423T184323
CREATED:20250224T100603Z
LAST-MODIFIED:20250224T105217Z
UID:5836-1740751200-1740767400@www.ev-hospizverein.de
SUMMARY:Letzte-Hilfe-Kurs – Das kleine 1x1 der Sterbebegleitung
DESCRIPTION:Einführung mit wertvollen Infos und praktischen Tipps für Laien: Sterben als Teil des Lebens. Vorsorgen und entscheiden. Leiden lindern. Abschied nehmen. \nBitte Anmeldung bis 27.02.2025 an ambulant@ev-hospizverein.de
URL:https://www.ev-hospizverein.de/termin/letzte-hilfe-kurs-das-kleine-1x1-der-sterbebegleitung-2/
LOCATION:Geschäftsstelle\, Landgraf-Georg-Straße 100\, 64287 Darmstadt
ATTACH;FMTTYPE=image/jpeg:https://www.ev-hospizverein.de/wp-content/uploads/2025/01/2501.kalender.lh_.jpg
END:VEVENT
END:VCALENDAR