BEGIN:VCALENDAR
VERSION:2.0
PRODID:-//Evangelischer Hospiz- und Palliativ-Verein Darmstadt e.V. - ECPv6.14.2//NONSGML v1.0//EN
CALSCALE:GREGORIAN
METHOD:PUBLISH
X-WR-CALNAME:Evangelischer Hospiz- und Palliativ-Verein Darmstadt e.V.
X-ORIGINAL-URL:https://www.ev-hospizverein.de
X-WR-CALDESC:Veranstaltungen für Evangelischer Hospiz- und Palliativ-Verein Darmstadt e.V.
REFRESH-INTERVAL;VALUE=DURATION:PT1H
X-Robots-Tag:noindex
X-PUBLISHED-TTL:PT1H
BEGIN:VTIMEZONE
TZID:Europe/Berlin
BEGIN:DAYLIGHT
TZOFFSETFROM:+0100
TZOFFSETTO:+0200
TZNAME:CEST
DTSTART:20250330T010000
END:DAYLIGHT
BEGIN:STANDARD
TZOFFSETFROM:+0200
TZOFFSETTO:+0100
TZNAME:CET
DTSTART:20251026T010000
END:STANDARD
END:VTIMEZONE
BEGIN:VEVENT
DTSTART;TZID=Europe/Berlin:20251121T130000
DTEND;TZID=Europe/Berlin:20251121T173000
DTSTAMP:20260424T100701
CREATED:20250919T093302Z
LAST-MODIFIED:20250925T145720Z
UID:6238-1763730000-1763746200@www.ev-hospizverein.de
SUMMARY:Letzte-Hilfe-Kurs – Das kleine 1×1 der Sterbebegleitung
DESCRIPTION:Einführung mit wertvollen Infos und praktischen Tipps für Laien: Sterben als Teil des Lebens. Vorsorgen und entscheiden. Leiden lindern. Abschied nehmen. \nOrt: in unserer Geschäftsstelle im Ärztehaus im Agaplesion Elisabethenstift 5. Stock\, Landgraf-Georg-Straße 100\, 64287 Darmstadt \nKosten: keine; wir freuen uns über eine Spende für unseren Verein \nKursleiter:innen: Annette Fautz und Birgit Hermann\,\nAnmeldung bis 11.10.2025: bei Stefan Hof (hofs@ev-hospizverein.de)\noder telefonisch unter 0 61 51 . 599 43 99 oder Fax 0 61 51 . 599 43 97
URL:https://www.ev-hospizverein.de/termin/letzte-hilfe-kurs-das-kleine-1x1-der-sterbebegleitung-5/
LOCATION:Geschäftsstelle\, Landgraf-Georg-Straße 100\, 64287 Darmstadt
ATTACH;FMTTYPE=image/jpeg:https://www.ev-hospizverein.de/wp-content/uploads/2025/07/letzte.jpg
END:VEVENT
END:VCALENDAR