BEGIN:VCALENDAR
VERSION:2.0
PRODID:-//Evangelischer Hospiz- und Palliativ-Verein Darmstadt e.V. - ECPv6.14.2//NONSGML v1.0//EN
CALSCALE:GREGORIAN
METHOD:PUBLISH
X-WR-CALNAME:Evangelischer Hospiz- und Palliativ-Verein Darmstadt e.V.
X-ORIGINAL-URL:https://www.ev-hospizverein.de
X-WR-CALDESC:Veranstaltungen für Evangelischer Hospiz- und Palliativ-Verein Darmstadt e.V.
REFRESH-INTERVAL;VALUE=DURATION:PT1H
X-Robots-Tag:noindex
X-PUBLISHED-TTL:PT1H
BEGIN:VTIMEZONE
TZID:Europe/Berlin
BEGIN:DAYLIGHT
TZOFFSETFROM:+0100
TZOFFSETTO:+0200
TZNAME:CEST
DTSTART:20260329T010000
END:DAYLIGHT
BEGIN:STANDARD
TZOFFSETFROM:+0200
TZOFFSETTO:+0100
TZNAME:CET
DTSTART:20261025T010000
END:STANDARD
END:VTIMEZONE
BEGIN:VEVENT
DTSTART;TZID=Europe/Berlin:20260227T133000
DTEND;TZID=Europe/Berlin:20260227T180000
DTSTAMP:20260424T161423
CREATED:20260115T114500Z
LAST-MODIFIED:20260220T090641Z
UID:6504-1772199000-1772215200@www.ev-hospizverein.de
SUMMARY:Letzte-Hilfe-Kurs – Das kleine 1×1 der Sterbebegleitung
DESCRIPTION:Einführung mit wertvollen Infos und praktischen Tipps für Laien: Sterben als Teil des Lebens. Vorsorgen und entscheiden. Leiden lindern. Abschied nehmen. \nOrt: in unserer Geschäftsstelle im Ärztehaus im Agaplesion Elisabethenstift 5. Stock\, Landgraf-Georg-Straße 100\, 64287 Darmstadt \nTeilnahmebeitrag: Die Teilnahme ist kostenlos. Wir freuen uns über eine Spende für unseren Verein. \nKursleiter:innen: Bettina Krall und Stefan Hof\nAnmeldung bitte bis 22.02.2026: bei Stefan Hof (hofs@ev-hospizverein.de)\noder telefonisch unter 0 61 51 . 599 43 99 oder Fax 0 61 51 . 599 43 97
URL:https://www.ev-hospizverein.de/termin/letzte-hilfe-kurs-das-kleine-1x1-der-sterbebegleitung-6/
LOCATION:Geschäftsstelle\, Landgraf-Georg-Straße 100\, 64287 Darmstadt
ATTACH;FMTTYPE=image/jpeg:https://www.ev-hospizverein.de/wp-content/uploads/2026/01/2601.lh_.gelb_.jpg
END:VEVENT
END:VCALENDAR