BEGIN:VCALENDAR
VERSION:2.0
PRODID:-//Evangelischer Hospiz- und Palliativ-Verein Darmstadt e.V. - ECPv6.14.2//NONSGML v1.0//EN
CALSCALE:GREGORIAN
METHOD:PUBLISH
X-WR-CALNAME:Evangelischer Hospiz- und Palliativ-Verein Darmstadt e.V.
X-ORIGINAL-URL:https://www.ev-hospizverein.de
X-WR-CALDESC:Veranstaltungen für Evangelischer Hospiz- und Palliativ-Verein Darmstadt e.V.
REFRESH-INTERVAL;VALUE=DURATION:PT1H
X-Robots-Tag:noindex
X-PUBLISHED-TTL:PT1H
BEGIN:VTIMEZONE
TZID:Europe/Berlin
BEGIN:DAYLIGHT
TZOFFSETFROM:+0100
TZOFFSETTO:+0200
TZNAME:CEST
DTSTART:20250330T010000
END:DAYLIGHT
BEGIN:STANDARD
TZOFFSETFROM:+0200
TZOFFSETTO:+0100
TZNAME:CET
DTSTART:20251026T010000
END:STANDARD
END:VTIMEZONE
BEGIN:VEVENT
DTSTART;VALUE=DATE:20250427
DTEND;VALUE=DATE:20250428
DTSTAMP:20260424T021811
CREATED:20250505T140524Z
LAST-MODIFIED:20250505T140805Z
UID:5982-1745712000-1745798399@www.ev-hospizverein.de
SUMMARY:Sterbebegleitung in Darmstadt und im Landkreis – Neue Ehrenamtliche als Hospizbegleitende in ihren Dienst eingeführt
DESCRIPTION:Wenn die Stiftskirche bei strahlendem Sonnenschein Sonntagmittags nahezu voll besetzt ist\, muss sich Wichtiges ereignen! So geschehen am 27. April 2025\, veranstaltet vom Evangelischen Dekanat Darmstadt mit dem Evangelischen Hospiz- und Palliativ-Verein.  \nIn einem sehr schönen und anrührenden Gottesdienst wurden die neuen Hospizbegleitenden durch den stellvertretenden Dekan Sven Sabary für ihren Dienst gesegnet und entsendet. Eine Dame konnte leider nicht an den Feierlichkeiten teilnehmen\, wurde jedoch in Ansprachen und Gebeten mitbedacht.  \nElf Frauen und drei Männer hatten von September 2024 bis März 2025 einen sogenannten Qualifizierungskurs absolviert und sich intensiv mit zentralen Themen rund um das Lebensende auseinandergesetzt.  \nInhalte der Ausbildung reichten von den Wurzeln der Hospizarbeit über die Entwicklung der Versorgung in Darmstadt und im Landkreis\, die Kommunikation mit schwerstkranken und sterbenden Mitmenschen\, Unterstützungsmöglichkeiten für Angehörige bis hin zu Praxiseinsätzen und Besuchen bei Bestattungsunternehmen.  \nSie werden nun erwachsene Menschen jeglichen Hintergrundes in stationären Pflegeeinrichtungen\, im häuslichen Umfeld\, auf Palliativstationen und in stationären Hospizen begleiten können. Auch in Einrichtungen für Menschen mit geistigen Beeinträchtigungen sind Ehrenamtliche des Vereins im Einsatz.  \nDas Evangelische Dekanat Darmstadt gab ihnen einen symbolischen Engel sowie eine Urkunde mit auf ihren Weg. Symbolisch überreichten Sylvi Öfner und Friedhelm Menzel den neuen Hospizbegleitenden einen kleinen Rucksack gefüllt mit einem kleinen Kompass\, etwas Nervennahrung und einem „Segen to go“ sowie die Abschlussbescheinigung des Vereins.  \nEin neuer Qualifizierungskurs für den ehrenamtlichen Hospizdienst beginnt im August 2025. Hier sind noch Plätze frei. Auskunft erteilt die leitende Koordinatorin Sylvi Öfner\, die per Mail unter oefners@ev-hospizverein.de zu erreichen ist. Weitere Informationen unter www.ev-hospizverein.de.
URL:https://www.ev-hospizverein.de/termin/sterbebegleitung-in-darmstadt-und-im-landkreis-neue-ehrenamtliche-als-hospizbegleitende-in-ihren-dienst-eingefuehrt/
LOCATION:Stiftskirche\, Stiftstraße 12A\, Darmstadt\, Hessen\, 64287
ATTACH;FMTTYPE=image/jpeg:https://www.ev-hospizverein.de/wp-content/uploads/2025/05/25.segnung.jpg
END:VEVENT
END:VCALENDAR