BEGIN:VCALENDAR
VERSION:2.0
PRODID:-//Evangelischer Hospiz- und Palliativ-Verein Darmstadt e.V. - ECPv6.14.2//NONSGML v1.0//EN
CALSCALE:GREGORIAN
METHOD:PUBLISH
X-WR-CALNAME:Evangelischer Hospiz- und Palliativ-Verein Darmstadt e.V.
X-ORIGINAL-URL:https://www.ev-hospizverein.de
X-WR-CALDESC:Veranstaltungen für Evangelischer Hospiz- und Palliativ-Verein Darmstadt e.V.
REFRESH-INTERVAL;VALUE=DURATION:PT1H
X-Robots-Tag:noindex
X-PUBLISHED-TTL:PT1H
BEGIN:VTIMEZONE
TZID:Europe/Helsinki
BEGIN:DAYLIGHT
TZOFFSETFROM:+0200
TZOFFSETTO:+0300
TZNAME:EEST
DTSTART:20250330T010000
END:DAYLIGHT
BEGIN:STANDARD
TZOFFSETFROM:+0300
TZOFFSETTO:+0200
TZNAME:EET
DTSTART:20251026T010000
END:STANDARD
END:VTIMEZONE
BEGIN:VEVENT
DTSTART;TZID=Europe/Helsinki:20250226T190000
DTEND;TZID=Europe/Helsinki:20250226T203000
DTSTAMP:20260423T164715
CREATED:20250108T110553Z
LAST-MODIFIED:20250219T090608Z
UID:4572-1740596400-1740601800@www.ev-hospizverein.de
SUMMARY:Sterben – aber sicher: Vorsorge treffen durch Patientenverfügung und Vorsorgevollmacht Ausgebucht!
DESCRIPTION:Die Koordinatorinnen des Evangelischen Hospiz- und Palliativ-Vereins Deike Schnücke und Katrin Neuheuser informieren zum Thema. Das Thema Selbstbestimmung am Lebensende rückt in unserer Gesellschaft immer mehr in den Fokus. Ort: CityLab Bitte Anmeldung bis 18.02.2025 an  ambulant@ev-hospizverein.de
URL:https://www.ev-hospizverein.de/termin/sterben-aber-sicher-vorsorge-treffen-durch-patientenverfuegung-und-vorsorgevollmacht/
LOCATION:CityLab\, Wilhelminenstraße 25\, 64283 Darmstadt
ATTACH;FMTTYPE=image/jpeg:https://www.ev-hospizverein.de/wp-content/uploads/2025/01/2501.kalender.aber_.jpg
END:VEVENT
END:VCALENDAR