BEGIN:VCALENDAR
VERSION:2.0
PRODID:-//Evangelischer Hospiz- und Palliativ-Verein Darmstadt e.V. - ECPv6.14.2//NONSGML v1.0//EN
CALSCALE:GREGORIAN
METHOD:PUBLISH
X-WR-CALNAME:Evangelischer Hospiz- und Palliativ-Verein Darmstadt e.V.
X-ORIGINAL-URL:https://www.ev-hospizverein.de
X-WR-CALDESC:Veranstaltungen für Evangelischer Hospiz- und Palliativ-Verein Darmstadt e.V.
REFRESH-INTERVAL;VALUE=DURATION:PT1H
X-Robots-Tag:noindex
X-PUBLISHED-TTL:PT1H
BEGIN:VTIMEZONE
TZID:Europe/Berlin
BEGIN:DAYLIGHT
TZOFFSETFROM:+0100
TZOFFSETTO:+0200
TZNAME:CEST
DTSTART:20260329T010000
END:DAYLIGHT
BEGIN:STANDARD
TZOFFSETFROM:+0200
TZOFFSETTO:+0100
TZNAME:CET
DTSTART:20261025T010000
END:STANDARD
END:VTIMEZONE
BEGIN:VEVENT
DTSTART;TZID=Europe/Berlin:20260321T140000
DTEND;TZID=Europe/Berlin:20260321T160000
DTSTAMP:20260424T222007
CREATED:20260128T134027Z
LAST-MODIFIED:20260128T134228Z
UID:6522-1774101600-1774108800@www.ev-hospizverein.de
SUMMARY:Trauer in Bewegung
DESCRIPTION:Wir laden Trauernde ein zu einem Spaziergang über die Rosenhöhe/ Oberfeld am Darmstädter Stadtrand. Beim gemeinsamen Gehen in der Natur können Verlusterfahrungen angesprochen und miteinander geteilt werden. Begleitet und geführt wird der Spaziergang von qualifizierten Trauerbegleiter*innen der veranstaltenden Dienste. Das Angebot ist konfessionsunabhängig und kostenfrei.  \nEs findet bei jedem Wetter statt. \nUm Anmeldung wird gebeten bis zum 19.03.2026: kircheundco@kircheundco.de oder 06151-296415 \n  \n2026-03-21 Trauer in Bewegung_Flyer A5
URL:https://www.ev-hospizverein.de/termin/trauer-in-bewegung/
LOCATION:Am Löwentor\, 64287 Darmstadt
ATTACH;FMTTYPE=image/jpeg:https://www.ev-hospizverein.de/wp-content/uploads/2026/01/trauer-in-be.jpg
END:VEVENT
END:VCALENDAR