BEGIN:VCALENDAR
VERSION:2.0
PRODID:-//Evangelischer Hospiz- und Palliativ-Verein Darmstadt e.V. - ECPv6.14.2//NONSGML v1.0//EN
CALSCALE:GREGORIAN
METHOD:PUBLISH
X-WR-CALNAME:Evangelischer Hospiz- und Palliativ-Verein Darmstadt e.V.
X-ORIGINAL-URL:https://www.ev-hospizverein.de
X-WR-CALDESC:Veranstaltungen für Evangelischer Hospiz- und Palliativ-Verein Darmstadt e.V.
REFRESH-INTERVAL;VALUE=DURATION:PT1H
X-Robots-Tag:noindex
X-PUBLISHED-TTL:PT1H
BEGIN:VTIMEZONE
TZID:Europe/Helsinki
BEGIN:DAYLIGHT
TZOFFSETFROM:+0200
TZOFFSETTO:+0300
TZNAME:EEST
DTSTART:20250330T010000
END:DAYLIGHT
BEGIN:STANDARD
TZOFFSETFROM:+0300
TZOFFSETTO:+0200
TZNAME:EET
DTSTART:20251026T010000
END:STANDARD
END:VTIMEZONE
BEGIN:VEVENT
DTSTART;VALUE=DATE:20250205
DTEND;VALUE=DATE:20250228
DTSTAMP:20260424T023100
CREATED:20250108T105549Z
LAST-MODIFIED:20250124T112853Z
UID:4560-1738713600-1740700799@www.ev-hospizverein.de
SUMMARY:„Wenn der Tod dich anlacht“ – Karikaturenausstellung
DESCRIPTION:Der Auseinandersetzung mit den Themen Sterben\, Tod und Trauer kann keiner von uns aus dem Weg gehen.\nDer Tod gehört schließlich untrennbar zu unserem Leben. Manchmal kann Humor den Umgang damit erleichtern. \nÖffnungszeiten: Montag bis Freitag 13:00–19:00 Uhr\, Samstag 11:00–17:00 Uhr \nOrt: CityLab\, Wilhelminenstraße 25\, Darmstadt
URL:https://www.ev-hospizverein.de/termin/wenn-der-tod-dich-anlacht-karikaturenausstellung/
LOCATION:CityLab\, Wilhelminenstraße 25\, 64283 Darmstadt
ATTACH;FMTTYPE=image/jpeg:https://www.ev-hospizverein.de/wp-content/uploads/2025/01/2501.kalender.Karikaturenausstellung.jpg
END:VEVENT
END:VCALENDAR