BEGIN:VCALENDAR
VERSION:2.0
PRODID:-//Evangelischer Hospiz- und Palliativ-Verein Darmstadt e.V. - ECPv6.14.2//NONSGML v1.0//EN
CALSCALE:GREGORIAN
METHOD:PUBLISH
X-WR-CALNAME:Evangelischer Hospiz- und Palliativ-Verein Darmstadt e.V.
X-ORIGINAL-URL:https://www.ev-hospizverein.de
X-WR-CALDESC:Veranstaltungen für Evangelischer Hospiz- und Palliativ-Verein Darmstadt e.V.
REFRESH-INTERVAL;VALUE=DURATION:PT1H
X-Robots-Tag:noindex
X-PUBLISHED-TTL:PT1H
BEGIN:VTIMEZONE
TZID:Europe/Berlin
BEGIN:DAYLIGHT
TZOFFSETFROM:+0100
TZOFFSETTO:+0200
TZNAME:CEST
DTSTART:20250330T010000
END:DAYLIGHT
BEGIN:STANDARD
TZOFFSETFROM:+0200
TZOFFSETTO:+0100
TZNAME:CET
DTSTART:20251026T010000
END:STANDARD
END:VTIMEZONE
BEGIN:VEVENT
DTSTART;TZID=Europe/Berlin:20250331T170000
DTEND;TZID=Europe/Berlin:20250331T183000
DTSTAMP:20260423T222519
CREATED:20250217T103729Z
LAST-MODIFIED:20250217T103936Z
UID:5759-1743440400-1743445800@www.ev-hospizverein.de
SUMMARY:Zusatztermin: Sterben – aber sicher: Vorsorge treffen durch Patientenverfügung und Vorsorgevollmacht.
DESCRIPTION:Die Koordinatorinnen des Evangelischen Hospiz- und Palliativ-Vereins Deike Schnücke und Katrin Neuheuser informieren zum Thema. Das Thema Selbstbestimmung am Lebensende rückt in unserer Gesellschaft immer mehr in den Fokus. \nBitte Anmeldung bis 24.03.2025 an  ambulant@ev-hospizverein.de
URL:https://www.ev-hospizverein.de/termin/zusatztermin-zur-veranstaltung-sterben-aber-sicher-vorsorge-treffen-durch-patientenverfuegung-und-vorsorgevollmacht/
LOCATION:Geschäftsstelle\, Landgraf-Georg-Straße 100\, 64287 Darmstadt
ATTACH;FMTTYPE=image/jpeg:https://www.ev-hospizverein.de/wp-content/uploads/2025/01/2501.kalender.aber_.jpg
END:VEVENT
END:VCALENDAR